BEGIN:VCALENDAR
VERSION:2.0
CALSCALE:GREGORIAN
PRODID:adamgibbons/ics
METHOD:PUBLISH
X-PUBLISHED-TTL:PT1H
BEGIN:VEVENT
UID:4141@lapunta.org
SUMMARY:Giù le mani dalle montagne toscane
DTSTAMP:20260421T081941Z
DTSTART:20240928T130000Z
DESCRIPTION:GIÙ LE MANI DALLE MONTAGNE TOSCANE!\n\nSabato 28 settembre 2024
	\, ore 15\n\nPiazza Duomo n. 10\, Firenze\n\nScendiamo in piazza per oppor
	ci alla distruzione di alcune delle ultime\nfrontiere di biodiversità e di
	 selvaticità del territorio italiano\n\nApuane\, Appennino Mugellano\, Mon
	tagna pistoiese\, Montagna lucchese\, Pratomagno\n\nQueste montagne sono s
	empre più sotto attacco\, nell’unione di interessi tra\npolitica e imprend
	itoria\, per ricavare nuovi profitti in nome del presunto\n“progresso” che
	 nulla ha a che fare col nostro benessere\n\nIndustria estrattiva\, mega i
	mpianti eolici\, nuovi impianti di risalita\, nuove\ninfrastrutture strada
	li a più di 1500 m di altitudine.\n\nUniamoci per dire NO alla malagestion
	e\, alla distruzione e al degrado di queste\naree voluti per:\n\n-sfruttar
	ne ogni risorsa possibile per ragioni di profitto\n\n-procedere con la lor
	o trasformazione in siti industriali voluti da lobby\nfinanziarie\n\n-tras
	formarli in aree destinate ad un turismo consumistico e distruttivo\n\n-ur
	banizzarli per renderli usabili ed accessibili senza riguardo e\nconsapevo
	lezza\n\n-snaturarli della loro bellezza e del loro valore nella continuaz
	ione di un\nsistema socioeconomico distruttivo e disumano\n\nDIFENDIAMO LA
	 NATURA DA CUI DIPENDIAMO PER ESISTERE!\n\nUnisciti a noi Sabato 28 settem
	bre dalle 15.00 in Piazza Duomo n.10 a Firenze\n\nIl Coordinamento delle c
	inque montagne\n\nDalla parte della Terra\, senza compromessi
URL:https://lapunta.org/event/giu-le-mani-dalle-montagne-toscane
LOCATION: Giunta Regionale P.zza Duomo\,1 - Piazza duomo 1 Firenze
STATUS:CONFIRMED
CATEGORIES:
X-ALT-DESC;FMTTYPE=text/html:<p>GIÙ LE MANI DALLE MONTAGNE TOSCANE! </p><p>
	Sabato 28 settembre 2024, ore 15</p><p>Piazza Duomo n. 10, Firenze </p><p>
	Scendiamo in piazza per opporci alla distruzione di alcune delle ultime fr
	ontiere di biodiversità e di selvaticità del territorio italiano </p><p>Ap
	uane, Appennino Mugellano, Montagna pistoiese, Montagna lucchese, Pratomag
	no</p><p>Queste montagne sono sempre più sotto attacco, nell’unione di int
	eressi tra politica e imprenditoria, per ricavare nuovi profitti in nome d
	el presunto “progresso” che nulla ha a che fare col nostro benessere</p><p
	>Industria estrattiva, mega impianti eolici, nuovi impianti di risalita, n
	uove infrastrutture stradali a più di 1500 m di altitudine.</p><p>Uniamoci
	 per dire NO alla malagestione, alla distruzione e al degrado di queste ar
	ee voluti per: </p><p>-sfruttarne ogni risorsa possibile per ragioni di pr
	ofitto</p><p>-procedere con la loro trasformazione in siti industriali vol
	uti da lobby finanziarie</p><p>-trasformarli in aree destinate ad un turis
	mo consumistico e distruttivo</p><p>-urbanizzarli per renderli usabili ed 
	accessibili senza riguardo e consapevolezza</p><p>-snaturarli della loro b
	ellezza e del loro valore nella continuazione di un sistema socioeconomico
	 distruttivo e disumano</p><p>DIFENDIAMO LA NATURA DA CUI DIPENDIAMO PER E
	SISTERE! </p><p>Unisciti a noi Sabato 28 settembre dalle 15.00 in Piazza D
	uomo n.10 a Firenze </p><p>Il Coordinamento delle cinque montagne</p><p>Da
	lla parte della Terra, senza compromessi</p>
END:VEVENT
BEGIN:VEVENT
UID:755@lapunta.org
SUMMARY:Presidio per il diritto alla salute \, alle cure\, alla sanità 
DTSTAMP:20260421T081941Z
DTSTART:20220704T153000Z
DTEND:20220704T170000Z
URL:https://lapunta.org/event/presidio-per-il-diritto-alla-salute-alle-cure
	-alla-sanita
LOCATION: Giunta Regionale P.zza Duomo\,1 - Piazza duomo 1 Firenze
STATUS:CONFIRMED
CATEGORIES:
END:VEVENT
END:VCALENDAR
